BEGIN:VCALENDAR
VERSION:2.0
PRODID:-//www.academie.repaircafeparis.fr//NONSGML kigkonsult.se iCalcreato
 r 2.30.10//
CALSCALE:GREGORIAN
METHOD:PUBLISH
UID:2ab93c9a-dc02-4c50-aa6e-bbce1ddb46b0
X-WR-CALNAME:iCagenda
X-WR-CALDESC:Event Management Extension for Joomla!
X-WR-RELCALID:3E26604A-50F4-4449-8B3E-E4F4932D05B5
X-WR-TIMEZONE:Europe/Paris
BEGIN:VTIMEZONE
TZID:Europe/Paris
BEGIN:STANDARD
TZNAME:CET
DTSTART:20251026T030000
TZOFFSETFROM:+0200
TZOFFSETTO:+0100
RDATE:20261025T030000
RDATE:20271031T030000
END:STANDARD
BEGIN:DAYLIGHT
TZNAME:CEST
DTSTART:20260329T020000
TZOFFSETFROM:+0100
TZOFFSETTO:+0200
RDATE:20270328T020000
END:DAYLIGHT
END:VTIMEZONE
BEGIN:VEVENT
UID:3a4ce4b2-13c8-4b4f-be61-86a00b6ba44d
DTSTAMP:20260424T081241Z
CATEGORIES:12.Repair cafe 12ème
CLASS:PUBLIC
DESCRIPTION;ALTREP="CID:<FFFF__=0ABBE548DFE235B58f9e8a93d@coffeebean.com>":
 Se déroule entre 10h et 13h au local associatif du 107 rue de Reuilly\, su
 ivre le fléchage\nRespect des mesures barrières et des règles sanitaires a
 ctuelles.\nPas d'inscription préalable. La Réparation se fait par ordre d'
 arrivée\, selon la disponibilité du bénévole réparateur compétent pour l'o
 bjet à réparer.\nPetit électroménager\, Objets électroniques\, Equipements
  informatiques\, Bricolage\, Couture (textile propre uniquement).\nPenser 
 à apporter les cables\, mode d'emploi\, piles\, ampoule...utiles à la répa
 ration\,\nRepair Café Paris 12 a lieu alternativement une fois par mois (v
 oir le calendrier) :\n&nbsp\;- au Centre Paris Anim Bessie Smith\, 19 rue 
 AJ Hénard\, (6dec\, 14 mars\, 13 juin : 107 rue de Reuilly)\,&nbsp\;\n&nbs
 p\;- au Centre Paris Anim Annie Fratellini\, 36 quai de la Rapée (8 nov\, 
 14 fév\, 9 mai)\n&nbsp\;- au Centre Paris Anim Maurice Ravel \, 6 rue Maur
 ice Ravel (10 oct\, 9 janv\, 10 avril)\n- à la MVAC\, électroménager\, 1 j
 eudi par mois (dates et inscriptions via le site)\n- à la&nbsp\;Maison du 
 Zéro Déchet\, Informatique et Téléphonie\, 1 mardi par mois (dates et insc
 riptions via le site)\nLe mardi matin de 10h15 à 12h45\, à la Maison de la
  Vie Associative et Citoyenne\, 181 av Daumesnil 75012 Paris\,&nbsp\; (ins
 cription obligatoire\, écrire à repaircafeparis12@gmail.com) ou sur place.
 \n&nbsp\;
DTSTART:20260613T080000Z
DTEND:20260613T080000Z
GEO:+48.842342;+2.392734
LOCATION:107 rue de Reuilly  75012 Paris
ORGANIZER;CN=:repaircafeparis12@gmail.com
SEQUENCE:1
SUMMARY:Repair Café Paris 12 (  ) (2)
TRANSP:OPAQUE
URL:https://www.academie.repaircafeparis.fr/index.php/calendar12/214-59-rep
 air-cafe-paris-20/2026-06-13-10-00
END:VEVENT
END:VCALENDAR
