BEGIN:VCALENDAR
VERSION:2.0
PRODID:-//www.academie.repaircafeparis.fr//NONSGML kigkonsult.se iCalcreato
 r 2.30.10//
CALSCALE:GREGORIAN
METHOD:PUBLISH
UID:24215482-2afc-47b7-8a95-ae088926483a
X-WR-CALNAME:iCagenda
X-WR-CALDESC:Event Management Extension for Joomla!
X-WR-RELCALID:3E26604A-50F4-4449-8B3E-E4F4932D05B5
X-WR-TIMEZONE:Europe/Paris
BEGIN:VTIMEZONE
TZID:Europe/Paris
BEGIN:STANDARD
TZNAME:CET
DTSTART:20231029T030000
TZOFFSETFROM:+0200
TZOFFSETTO:+0100
RDATE:20241027T030000
END:STANDARD
BEGIN:DAYLIGHT
TZNAME:CEST
DTSTART:20240331T020000
TZOFFSETFROM:+0100
TZOFFSETTO:+0200
RDATE:20250330T020000
END:DAYLIGHT
END:VTIMEZONE
BEGIN:VEVENT
UID:3f0cf7a1-3f6c-4ad2-b9d4-c66f623ae7d1
DTSTAMP:20260421T141204Z
CATEGORIES:10.Repair cafe 10ème
CLASS:PUBLIC
DESCRIPTION:
DTSTART:20240406T120000Z
DTEND:20240406T120000Z
GEO:+48.875759;+2.354283
LOCATION:Centre Social et Culturel Le Pari's des Faubourgs 12 RUE LEON SCHW
 ARTZENBERG ET COUR DE LA FERME ST LAZARE - 75010 PARIS
ORGANIZER;CN=:repaircafe.paris10@gmail.com
SEQUENCE:1
SUMMARY:Repair cafe Paris 10 (Le Pari's des faubourgs )
TRANSP:OPAQUE
URL:https://www.academie.repaircafeparis.fr/index.php/calendar/9-repair-caf
 e-10eme-le-pari-s-des-faubourgs/2024-04-06-14-00
END:VEVENT
END:VCALENDAR
