BEGIN:VCALENDAR
VERSION:2.0
PRODID:-//www.academie.repaircafeparis.fr//NONSGML kigkonsult.se iCalcreato
 r 2.30.10//
CALSCALE:GREGORIAN
METHOD:PUBLISH
UID:3efe982f-9830-4714-b50e-119cf19ed851
X-WR-CALNAME:iCagenda
X-WR-CALDESC:Event Management Extension for Joomla!
X-WR-RELCALID:3E26604A-50F4-4449-8B3E-E4F4932D05B5
X-WR-TIMEZONE:Europe/Paris
BEGIN:VTIMEZONE
TZID:Europe/Paris
BEGIN:STANDARD
TZNAME:CET
DTSTART:20191027T030000
TZOFFSETFROM:+0200
TZOFFSETTO:+0100
RDATE:20201025T030000
END:STANDARD
BEGIN:DAYLIGHT
TZNAME:CEST
DTSTART:20190331T020000
TZOFFSETFROM:+0100
TZOFFSETTO:+0200
RDATE:20200329T020000
RDATE:20210328T020000
END:DAYLIGHT
END:VTIMEZONE
BEGIN:VEVENT
UID:c364fc2c-474c-4664-a641-27b9a8741d2e
DTSTAMP:20260420T034533Z
CATEGORIES:10.Repair cafe 10ème
CLASS:PUBLIC
DESCRIPTION:
DTSTART:20200215T130000Z
DTEND:20200215T130000Z
GEO:+48.875759;+2.354283
LOCATION:Centre Social et Culturel Le Pari's des Faubourgs 12 RUE LEON SCHW
 ARTZENBERG ET COUR DE LA FERME ST LAZARE - 75010 PARIS
ORGANIZER;CN=:repaircafe.paris10@gmail.com
SEQUENCE:1
SUMMARY:Repair cafe Paris 10 (Le Pari's des faubourgs )
TRANSP:OPAQUE
URL:https://www.academie.repaircafeparis.fr/index.php/calendar/9-repair-caf
 e-10eme-le-pari-s-des-faubourgs/2020-02-15-14-00
END:VEVENT
END:VCALENDAR
