BEGIN:VCALENDAR
VERSION:2.0
PRODID:-//www.academie.repaircafeparis.fr//NONSGML kigkonsult.se iCalcreato
 r 2.30.10//
CALSCALE:GREGORIAN
METHOD:PUBLISH
UID:7607e56b-58ae-4e0e-a6e7-c97fb978b863
X-WR-CALNAME:iCagenda
X-WR-CALDESC:Event Management Extension for Joomla!
X-WR-RELCALID:3E26604A-50F4-4449-8B3E-E4F4932D05B5
X-WR-TIMEZONE:Europe/Paris
BEGIN:VTIMEZONE
TZID:Europe/Paris
BEGIN:STANDARD
TZNAME:CET
DTSTART:20241027T030000
TZOFFSETFROM:+0200
TZOFFSETTO:+0100
RDATE:20251026T030000
RDATE:20261025T030000
END:STANDARD
BEGIN:DAYLIGHT
TZNAME:CEST
DTSTART:20250330T020000
TZOFFSETFROM:+0100
TZOFFSETTO:+0200
RDATE:20260329T020000
RDATE:20270328T020000
END:DAYLIGHT
END:VTIMEZONE
BEGIN:VEVENT
UID:c20f984c-8bc7-4998-b1df-a181e553e580
DTSTAMP:20260420T183844Z
CATEGORIES:14-1.Repair cafe 14ème
CLASS:PUBLIC
DESCRIPTION;ALTREP="CID:<FFFF__=0ABBE548DFE235B58f9e8a93d@coffeebean.com>":
 &nbsp\;Se déroule entre 14h et 18h\,\n\nPetit électroménager\, appareils e
 lectroniques\, appareils divers (jouets\, lampes\, ...) réparation de vête
 ments\, vélo selon compétences des bénévoles présents\nPas d'inscription p
 réalable : Réparation par ordre d'arrivée\, selon la disponibilité du béné
 vole réparateur et compétent de l'objet à réparer.\nPenser à apporter les 
 cables\, mode d'emploi\, piles\, ampoules\, ...utiles à la réparation.\nNo
 us ne disposons pas de pièces détachées mais nous pouvons vous aider à les
  trouver.\nCouture: Vêtement Propre uniquement.\n\nAttention :&nbsp\;Respe
 ct des mesures barrières en vigueur au moment de l'évenement.
DTSTART:20251025T120000Z
DTEND:20251025T120000Z
GEO:+48.833874;+2.319253
LOCATION:Chateau Ouvrier - Florimont Place Marcel Paul 75014 Paris
ORGANIZER;CN=:repaircafeparis14@gmail.com
SEQUENCE:1
SUMMARY:Repair Café Paris 14ème - Florimont
TRANSP:OPAQUE
URL:https://www.academie.repaircafeparis.fr/index.php/calendar/73-repair-ca
 fe-paris-14eme-florimont/2025-10-25-14-00
END:VEVENT
END:VCALENDAR
