BEGIN:VCALENDAR
VERSION:2.0
PRODID:-//www.academie.repaircafeparis.fr//NONSGML kigkonsult.se iCalcreato
 r 2.30.10//
CALSCALE:GREGORIAN
METHOD:PUBLISH
UID:2641f5ef-83a7-4de3-89a1-e91b669e1c30
X-WR-CALNAME:iCagenda
X-WR-CALDESC:Event Management Extension for Joomla!
X-WR-RELCALID:3E26604A-50F4-4449-8B3E-E4F4932D05B5
X-WR-TIMEZONE:Europe/Paris
BEGIN:VTIMEZONE
TZID:Europe/Paris
BEGIN:STANDARD
TZNAME:CET
DTSTART:20221030T030000
TZOFFSETFROM:+0200
TZOFFSETTO:+0100
RDATE:20231029T030000
END:STANDARD
BEGIN:DAYLIGHT
TZNAME:CEST
DTSTART:20220327T020000
TZOFFSETFROM:+0100
TZOFFSETTO:+0200
RDATE:20230326T020000
RDATE:20240331T020000
END:DAYLIGHT
END:VTIMEZONE
BEGIN:VEVENT
UID:cb9fff1a-f8b1-4a5c-b55a-cdc4ef5ed30f
DTSTAMP:20260421T170850Z
CATEGORIES:14-1.Repair cafe 14ème
CLASS:PUBLIC
DESCRIPTION;ALTREP="CID:<FFFF__=0ABBE548DFE235B58f9e8a93d@coffeebean.com>":
 &nbsp\;Se déroule entre 14h et 18h\,\n\nPetit électroménager\, appareils e
 lectroniques\, appareils divers (jouets\, lampes\, ...) réparation de vête
 ments\, vélo selon compétences des bénévoles présents\nPas d'inscription p
 réalable : Réparation par ordre d'arrivée\, selon la disponibilité du béné
 vole réparateur et compétent de l'objet à réparer.\nPenser à apporter les 
 cables\, mode d'emploi\, piles\, ampoules\, ...utiles à la réparation.\nNo
 us ne disposons pas de pièces détachées mais nous pouvons vous aider à les
  trouver.\nCouture: Vêtement Propre uniquement.\n\nAttention :&nbsp\;Respe
 ct des mesures barrières en vigueur au moment de l'évenement.
DTSTART:20221217T130000Z
DTEND:20221217T130000Z
GEO:+48.833874;+2.319253
LOCATION:Chateau Ouvrier - Florimont Place Marcel Paul 75014 Paris
ORGANIZER;CN=:repaircafeparis14@gmail.com
SEQUENCE:1
SUMMARY:Repair Café Paris 14ème - Florimont
TRANSP:OPAQUE
URL:https://www.academie.repaircafeparis.fr/index.php/calendar/73-repair-ca
 fe-paris-14eme-florimont/2022-12-17-14-00
END:VEVENT
END:VCALENDAR
