BEGIN:VCALENDAR
VERSION:2.0
PRODID:-//www.academie.repaircafeparis.fr//NONSGML kigkonsult.se iCalcreato
 r 2.30.10//
CALSCALE:GREGORIAN
METHOD:PUBLISH
UID:7f7ed5bd-63a5-4b3a-b011-9d34c1897fd7
X-WR-CALNAME:iCagenda
X-WR-CALDESC:Event Management Extension for Joomla!
X-WR-RELCALID:3E26604A-50F4-4449-8B3E-E4F4932D05B5
X-WR-TIMEZONE:Europe/Paris
BEGIN:VTIMEZONE
TZID:Europe/Paris
BEGIN:STANDARD
TZNAME:CET
DTSTART:20211031T030000
TZOFFSETFROM:+0200
TZOFFSETTO:+0100
RDATE:20221030T030000
RDATE:20231029T030000
END:STANDARD
BEGIN:DAYLIGHT
TZNAME:CEST
DTSTART:20220327T020000
TZOFFSETFROM:+0100
TZOFFSETTO:+0200
RDATE:20230326T020000
END:DAYLIGHT
END:VTIMEZONE
BEGIN:VEVENT
UID:6d964837-3ac0-4694-a581-393bffc3e7d6
DTSTAMP:20260424T134749Z
CATEGORIES:09.Repair cafe 9ème
CLASS:PUBLIC
DESCRIPTION:
DTSTART:20220625T073000Z
DTEND:20220625T073000Z
GEO:+48.872597;+2.340453
LOCATION:Mairie du 9ème 6 rue Drouot 75009 Paris
ORGANIZER;CN=:repaircafeparisneuf@gmail.com
SEQUENCE:1
SUMMARY:Repair café Paris 9 (Mairie)
TRANSP:OPAQUE
URL:https://www.academie.repaircafeparis.fr/index.php/calendar/4-mairie-du-
 9/2022-06-25-09-30
END:VEVENT
END:VCALENDAR
