BEGIN:VCALENDAR
VERSION:2.0
PRODID:-//www.academie.repaircafeparis.fr//NONSGML kigkonsult.se iCalcreato
 r 2.30.10//
CALSCALE:GREGORIAN
METHOD:PUBLISH
UID:6535db9e-0ea2-46ef-b8f6-b29df7b30cb8
X-WR-CALNAME:iCagenda
X-WR-CALDESC:Event Management Extension for Joomla!
X-WR-RELCALID:3E26604A-50F4-4449-8B3E-E4F4932D05B5
X-WR-TIMEZONE:Europe/Paris
BEGIN:VTIMEZONE
TZID:Europe/Paris
BEGIN:STANDARD
TZNAME:CET
DTSTART:20191027T030000
TZOFFSETFROM:+0200
TZOFFSETTO:+0100
RDATE:20201025T030000
END:STANDARD
BEGIN:DAYLIGHT
TZNAME:CEST
DTSTART:20190331T020000
TZOFFSETFROM:+0100
TZOFFSETTO:+0200
RDATE:20200329T020000
RDATE:20210328T020000
END:DAYLIGHT
END:VTIMEZONE
BEGIN:VEVENT
UID:77f44b10-2c1c-4355-b7c6-b4e8a5c1d485
DTSTAMP:20260424T083454Z
CATEGORIES:13.Repair cafe 13ème
CLASS:PUBLIC
DESCRIPTION;ALTREP="CID:<FFFF__=0ABBE548DFE235B58f9e8a93d@coffeebean.com>":
 Que faire d’un grille pain qui brûle vos tartines\, d’un écran d’ordinateu
 r qui ne s’allume plus\,&nbsp\;\nd’une veste trouée ?\nLes jeter ?&nbsp\;S
 e précipiter pour racheter du neuf ?\nPAS QUESTION !\nVenez les réparer av
 ec nous !\n&nbsp\;\n&nbsp\;\n&nbsp\;\n&nbsp\;\n&nbsp\;
DTSTART:20200229T130000Z
DTEND:20200229T130000Z
GEO:00;0
LOCATION:9\, rue du chevaleret 75013 PARIS
ORGANIZER;CN=:repaircafe75013@gmail.com
SEQUENCE:1
SUMMARY:Repair café 13ème  CHEVALERET
TRANSP:OPAQUE
URL:https://www.academie.repaircafeparis.fr/index.php/calendar/30-repair-ca
 fe-13-chevaleret-pass-sanitaire-exige/2020-02-29-14-00
END:VEVENT
END:VCALENDAR
