BEGIN:VCALENDAR
VERSION:2.0
PRODID:-//www.academie.repaircafeparis.fr//NONSGML kigkonsult.se iCalcreato
 r 2.30.10//
CALSCALE:GREGORIAN
METHOD:PUBLISH
UID:839de3fc-9790-42e2-86cb-cb236fa05564
X-WR-CALNAME:iCagenda
X-WR-CALDESC:Event Management Extension for Joomla!
X-WR-RELCALID:3E26604A-50F4-4449-8B3E-E4F4932D05B5
X-WR-TIMEZONE:Europe/Paris
BEGIN:VTIMEZONE
TZID:Europe/Paris
BEGIN:STANDARD
TZNAME:CET
DTSTART:20251026T030000
TZOFFSETFROM:+0200
TZOFFSETTO:+0100
RDATE:20261025T030000
END:STANDARD
BEGIN:DAYLIGHT
TZNAME:CEST
DTSTART:20250330T020000
TZOFFSETFROM:+0100
TZOFFSETTO:+0200
RDATE:20260329T020000
RDATE:20270328T020000
END:DAYLIGHT
END:VTIMEZONE
BEGIN:VEVENT
UID:64e83dac-7cf0-447c-bd2c-5964045652b6
DTSTAMP:20260424T015524Z
CATEGORIES:04.Repair cafe Paris 4ème
CLASS:PUBLIC
DESCRIPTION;ALTREP="CID:<FFFF__=0ABBE548DFE235B58f9e8a93d@coffeebean.com>":
 Dans le sillage des formations du dimanche matin à l'Académie du Climat s'
 est lancé mi-2025 le Repair Café Académie du Climat un après-midi par mois
  dans l'atelier éco-construction.- Un dimanche par mois l'après-midi (14h3
 0-17h)\n- Imprimante 3D possible&nbsp\;\n- Sans inscription&nbsp\;\n- Au r
 ez-de-chaussée\, atelier éco-construction&nbsp\;
DTSTART:20260208T133000Z
DTEND:20260208T160000Z
GEO:+48.856148;+2.355782
LOCATION:Académie du Climat Paris 4e (atelier éco-construction) de 14h30 à 
 17h00
ORGANIZER;CN=:repaircafeacademieduclimat@proton.me
SEQUENCE:1
SUMMARY:Repair Café 4e (Académie du Climat)
TRANSP:OPAQUE
URL:https://www.academie.repaircafeparis.fr/index.php/calendar/223-repair-c
 afe-4e-academie-du-climat-7
END:VEVENT
END:VCALENDAR
