BEGIN:VCALENDAR
VERSION:2.0
PRODID:-//www.academie.repaircafeparis.fr//NONSGML kigkonsult.se iCalcreato
 r 2.30.10//
CALSCALE:GREGORIAN
METHOD:PUBLISH
UID:b61cdb8a-2c06-4192-b190-88feb69128f2
X-WR-CALNAME:iCagenda
X-WR-CALDESC:Event Management Extension for Joomla!
X-WR-RELCALID:3E26604A-50F4-4449-8B3E-E4F4932D05B5
X-WR-TIMEZONE:Europe/Paris
BEGIN:VTIMEZONE
TZID:Europe/Paris
BEGIN:STANDARD
TZNAME:CET
DTSTART:20241027T030000
TZOFFSETFROM:+0200
TZOFFSETTO:+0100
RDATE:20251026T030000
RDATE:20261025T030000
END:STANDARD
BEGIN:DAYLIGHT
TZNAME:CEST
DTSTART:20250330T020000
TZOFFSETFROM:+0100
TZOFFSETTO:+0200
RDATE:20260329T020000
RDATE:20270328T020000
END:DAYLIGHT
END:VTIMEZONE
BEGIN:VEVENT
UID:7e179f39-a56c-4ab7-96fa-bcae0980587e
DTSTAMP:20260425T001735Z
CATEGORIES:12.Repair cafe 12ème
CLASS:PUBLIC
DESCRIPTION;ALTREP="CID:<FFFF__=0ABBE548DFE235B58f9e8a93d@coffeebean.com>":
 Se déroule entre 18h45 et 21h15&nbsp\;\nPas d'inscription préalable. La Ré
 paration se fait par ordre d'arrivée\, selon la disponibilité du bénévole 
 réparateur compétent pour l'objet à réparer.\nPetit électroménager\, Objet
 s électroniques\, Equipements informatiques\, Bricolage\, Couture (textile
  propre uniquement).\nPenser à apporter les cables\, mode d'emploi\, piles
 \, ampoule...utiles à la réparation\,\nRepair Café Paris 12 a lieu alterna
 tivement une fois par mois (voir le calendrier) :\n&nbsp\;- au Centre Pari
 s Anim Bessie Smith\, 19 rue AJ Hénard\, (6dec\, 14 février\, 13 juin)\,&n
 bsp\;\n&nbsp\;- au Centre Paris Anim Annie Fratellini\, 36 quai de la Rapé
 e (8 nov\, 14 mars\, 9 mai)\n&nbsp\;- au Centre Paris Anim Maurice Ravel \
 , 6 rue Maurice Ravel (10 oct\, 9 janv\, 10 avril)\n- à la MVAC\, électrom
 énager\, 1 jeudi par mois (dates et inscriptions via le site)\n- à la&nbsp
 \;Maison du Zéro Déchet\, Informatique et Téléphonie\, 1 mardi par mois (d
 ates et inscriptions via le site)\nLe mardi matin de 10h15 à 12h45\, à la 
 Maison de la Vie Associative et Citoyenne\, 181 av Daumesnil 75012 Paris\,
 &nbsp\; (inscription obligatoire\, écrire à repaircafeparis12@gmail.com) o
 u sur place.\n&nbsp\;\n&nbsp\;
DTSTART:20251010T164500Z
DTEND:20251010T164500Z
GEO:+48.841885;+2.411616
LOCATION:6 Av Maurice Ravel 75012 Paris
ORGANIZER;CN=:repaircafeparis12@gmail.com
SEQUENCE:1
SUMMARY:Repair Café Paris 12 (Ravel) (4)
TRANSP:OPAQUE
URL:https://www.academie.repaircafeparis.fr/index.php/calendar/211-repair-c
 afe-paris-12-ravel-4/2025-10-10-18-45
END:VEVENT
END:VCALENDAR
