BEGIN:VCALENDAR
VERSION:2.0
PRODID:-//www.academie.repaircafeparis.fr//NONSGML kigkonsult.se iCalcreato
 r 2.30.10//
CALSCALE:GREGORIAN
METHOD:PUBLISH
UID:9a7589cc-0836-4f5e-bc4b-9ce3fdb2a242
X-WR-CALNAME:iCagenda
X-WR-CALDESC:Event Management Extension for Joomla!
X-WR-RELCALID:3E26604A-50F4-4449-8B3E-E4F4932D05B5
X-WR-TIMEZONE:Europe/Paris
BEGIN:VTIMEZONE
TZID:Europe/Paris
BEGIN:STANDARD
TZNAME:CET
DTSTART:20251026T030000
TZOFFSETFROM:+0200
TZOFFSETTO:+0100
RDATE:20261025T030000
END:STANDARD
BEGIN:DAYLIGHT
TZNAME:CEST
DTSTART:20250330T020000
TZOFFSETFROM:+0100
TZOFFSETTO:+0200
RDATE:20260329T020000
RDATE:20270328T020000
END:DAYLIGHT
END:VTIMEZONE
BEGIN:VEVENT
UID:a739201a-5fb8-4dc2-8089-8646d6492ac8
DTSTAMP:20260421T114953Z
CATEGORIES:12.Repair cafe 12ème
CLASS:PUBLIC
DESCRIPTION;ALTREP="CID:<FFFF__=0ABBE548DFE235B58f9e8a93d@coffeebean.com>":
 RC12 est présent tous les mardis de 10h15 à 12h45 à la MVAC du 12eme\, 181
  av Daumesnil\, dans le hall.\nPetit Electroménager\, objets électroniques
 \, bricolage\,&nbsp\; couture (textile propre uniquement)\nECRIRE pour Ins
 cription préalable à :&nbsp\; repaircafeparis12@gmail.com fermé du 19 12 a
 u 4 1 2026\nPrécisez l'objet à réparer dans votre mail\nPenser à apporter 
 les cables\, mode d'emploi\, piles\, ampoule...utiles à la réparation\,\nR
 epair Café Paris 12 a lieu alternativement une fois par mois (voir le cale
 ndrier) :&nbsp\;\n&nbsp\;- au Centre Paris Anim Bessie Smith\, 19 rue AJ H
 énard\, (6dec\, 14 février\,  13 juin : 107 rue de Reuilly)\,&nbsp\;\n&nbs
 p\;- au Centre Paris Anim Annie Fratellini\, 36 quai de la Rapée (8 nov\, 
 14 mars\, 9 mai)\n&nbsp\;- au Centre Paris Anim Maurice Ravel \, 6 rue Mau
 rice Ravel (10 oct\, 9 janv\, 10 avril)\n- à la MVAC\, électroménager\, 1 
 jeudi par mois (dates et inscriptions via le site)\n- à la&nbsp\;Maison du
  Zéro Déchet\, Informatique et Téléphonie\, 1 mardi par mois (dates et ins
 criptions via le site)\nLe mardi matin de 10h15 à 12h45\, à la Maison de l
 a Vie Associative et Citoyenne\, 181 av Daumesnil 75012 Paris\,&nbsp\; (in
 scription obligatoire\, écrire à repaircafeparis12@gmail.com) ou sur place
 .
DTSTART:20260324T091500Z
DTEND:20260324T114500Z
GEO:+48.84063;+2.392475
LOCATION:181 av daumesnil 75012 Paris
ORGANIZER;CN=:repaircafeparis12@gmail.com
SEQUENCE:1
SUMMARY:Repair Café Paris 12  (4)
TRANSP:OPAQUE
URL:https://www.academie.repaircafeparis.fr/index.php/calendar/209-59-repai
 r-cafe-paris-17/2026-03-24-10-15
END:VEVENT
END:VCALENDAR
