BEGIN:VCALENDAR
VERSION:2.0
PRODID:-//www.academie.repaircafeparis.fr//NONSGML kigkonsult.se iCalcreato
 r 2.30.10//
CALSCALE:GREGORIAN
METHOD:PUBLISH
UID:8f1429ed-f3ae-4822-a9bc-f46af10220a4
X-WR-CALNAME:iCagenda
X-WR-CALDESC:Event Management Extension for Joomla!
X-WR-RELCALID:3E26604A-50F4-4449-8B3E-E4F4932D05B5
X-WR-TIMEZONE:Europe/Paris
BEGIN:VTIMEZONE
TZID:Europe/Paris
BEGIN:STANDARD
TZNAME:CET
DTSTART:20251026T030000
TZOFFSETFROM:+0200
TZOFFSETTO:+0100
RDATE:20261025T030000
END:STANDARD
BEGIN:DAYLIGHT
TZNAME:CEST
DTSTART:20250330T020000
TZOFFSETFROM:+0100
TZOFFSETTO:+0200
RDATE:20260329T020000
RDATE:20270328T020000
END:DAYLIGHT
END:VTIMEZONE
BEGIN:VEVENT
UID:30bd2877-4889-45ed-a453-dd8d2c4af553
DTSTAMP:20260421T053328Z
CATEGORIES:13.Repair cafe 13ème
CLASS:PUBLIC
DESCRIPTION;ALTREP="CID:<FFFF__=0ABBE548DFE235B58f9e8a93d@coffeebean.com>":
 RC13 Samedi Après-midi au Centre Paris Anim Victoire Tinayre situé rue Dav
 iel (esplanade derrière Monoprix).Ouverture à partir de 14h\, fermeture à 
 16h30\, les derniers objets seront acceptés dans le courant de l'après-mid
 i bien avant l'heure de femerture\, en fonction de l'affluence et de la di
 sponibilité des bénévoles.
DTSTART:20251128T230000Z
DTEND:20251128T230000Z
GEO:+48.828133;+2.344877
LOCATION:Centre Paris Anim Victoire Tinayre
ORGANIZER;CN=:repaircafe75013@gmail.com
SEQUENCE:1
SUMMARY:Repair Café 13ème Daviel - Victoire Tinayre
TRANSP:OPAQUE
URL:https://www.academie.repaircafeparis.fr/index.php/calendar/191-repair-c
 afe-13eme-victoire-tinayre-3
END:VEVENT
END:VCALENDAR
