BEGIN:VCALENDAR
VERSION:2.0
PRODID:-//www.academie.repaircafeparis.fr//NONSGML kigkonsult.se iCalcreato
 r 2.30.10//
CALSCALE:GREGORIAN
METHOD:PUBLISH
UID:9db54de0-bd86-4d61-9c1e-225803b399b2
X-WR-CALNAME:iCagenda
X-WR-CALDESC:Event Management Extension for Joomla!
X-WR-RELCALID:3E26604A-50F4-4449-8B3E-E4F4932D05B5
X-WR-TIMEZONE:Europe/Paris
BEGIN:VTIMEZONE
TZID:Europe/Paris
BEGIN:STANDARD
TZNAME:CET
DTSTART:20231029T030000
TZOFFSETFROM:+0200
TZOFFSETTO:+0100
RDATE:20241027T030000
RDATE:20251026T030000
END:STANDARD
BEGIN:DAYLIGHT
TZNAME:CEST
DTSTART:20240331T020000
TZOFFSETFROM:+0100
TZOFFSETTO:+0200
RDATE:20250330T020000
END:DAYLIGHT
END:VTIMEZONE
BEGIN:VEVENT
UID:ea9591a3-f95d-4959-9f3a-f4379a232d9b
DTSTAMP:20260424T170711Z
CATEGORIES:19-3.Repair café 19ème Cité des Sciences
CLASS:PUBLIC
DESCRIPTION;ALTREP="CID:<FFFF__=0ABBE548DFE235B58f9e8a93d@coffeebean.com>":
 REPAIR CAFE au CARREFOUR NUMERIQUE DE LA CITE DES SCIENCES\nCarrefour Numé
 rique² de la Cité des Sciences et de l'industrie\nAdresse : 30 avenue Core
 ntin Cariou - Paris 19ème\nEvènement destiné aux adutes et aux enfants.\nA
 pportez vos objets à réparer à partir de 11h et jusqu'à 17h.\nLes enfants 
 pourront participer à des ateliers de sensibilisation à la réparation.
DTSTART:20240608T090000Z
DTEND:20240608T150000Z
GEO:+48.895752;+2.387976
LOCATION:Carrefour Numérique² de la Cité des Sciences et de l'industrie
ORGANIZER:
SEQUENCE:1
SUMMARY:REPAIR CAFE au CARREFOUR NUMERIQUE DE LA CITE DES SCIENCES
TRANSP:OPAQUE
URL:https://www.academie.repaircafeparis.fr/index.php/calendar/165-repair-c
 afe-paris-2
END:VEVENT
END:VCALENDAR
