BEGIN:VCALENDAR
VERSION:2.0
PRODID:-//www.academie.repaircafeparis.fr//NONSGML kigkonsult.se iCalcreato
 r 2.30.10//
CALSCALE:GREGORIAN
METHOD:PUBLISH
UID:615a24a1-4bf4-49cf-a8c6-754029705265
X-WR-CALNAME:iCagenda
X-WR-CALDESC:Event Management Extension for Joomla!
X-WR-RELCALID:3E26604A-50F4-4449-8B3E-E4F4932D05B5
X-WR-TIMEZONE:Europe/Paris
BEGIN:VTIMEZONE
TZID:Europe/Paris
BEGIN:STANDARD
TZNAME:CET
DTSTART:20241027T030000
TZOFFSETFROM:+0200
TZOFFSETTO:+0100
RDATE:20251026T030000
RDATE:20261025T030000
END:STANDARD
BEGIN:DAYLIGHT
TZNAME:CEST
DTSTART:20250330T020000
TZOFFSETFROM:+0100
TZOFFSETTO:+0200
RDATE:20260329T020000
END:DAYLIGHT
END:VTIMEZONE
BEGIN:VEVENT
UID:b8367dcc-44d1-41a6-9ce8-47f97f65ae37
DTSTAMP:20260421T151727Z
CATEGORIES:10.Repair cafe 10ème
CLASS:PUBLIC
DESCRIPTION;ALTREP="CID:<FFFF__=0ABBE548DFE235B58f9e8a93d@coffeebean.com>":
 \nREPAIR CAFE - BIBLIOTHEQUE FRANCOIS VILLON 81 boulevard de la Villette 7
 5010 Paris Près du métro Colonel fabien\nNous vous attendons nombreux\, au
  plaisir de vous voir.\nRéférente : Jackie\n
DTSTART:20250524T080000Z
DTEND:20250524T080000Z
GEO:+48.877209;+2.37081
LOCATION:Bibliothèque F. VILLON
ORGANIZER;CN=:jackierepaircafe@gmail.com
SEQUENCE:1
SUMMARY:RC Bibiotheque F. VILLON
TRANSP:OPAQUE
URL:https://www.academie.repaircafeparis.fr/index.php/calendar/161-rc-bibio
 theque-f-villon-3/2025-05-24-10-00
END:VEVENT
END:VCALENDAR
