BEGIN:VCALENDAR
VERSION:2.0
PRODID:-//www.academie.repaircafeparis.fr//NONSGML kigkonsult.se iCalcreato
 r 2.30.10//
CALSCALE:GREGORIAN
METHOD:PUBLISH
UID:496a2363-03f3-45d0-a96c-69792512cd3e
X-WR-CALNAME:iCagenda
X-WR-CALDESC:Event Management Extension for Joomla!
X-WR-RELCALID:3E26604A-50F4-4449-8B3E-E4F4932D05B5
X-WR-TIMEZONE:Europe/Paris
BEGIN:VTIMEZONE
TZID:Europe/Paris
BEGIN:STANDARD
TZNAME:CET
DTSTART:20221030T030000
TZOFFSETFROM:+0200
TZOFFSETTO:+0100
RDATE:20231029T030000
END:STANDARD
BEGIN:DAYLIGHT
TZNAME:CEST
DTSTART:20220327T020000
TZOFFSETFROM:+0100
TZOFFSETTO:+0200
RDATE:20230326T020000
RDATE:20240331T020000
END:DAYLIGHT
END:VTIMEZONE
BEGIN:VEVENT
UID:c19bba89-107b-4edb-923e-739a8d2176ba
DTSTAMP:20260424T045230Z
CATEGORIES:02.Repair café enfants
CLASS:PUBLIC
DESCRIPTION;ALTREP="CID:<FFFF__=0ABBE548DFE235B58f9e8a93d@coffeebean.com>":
 Samedi 23 mars 2024 après-midi un RC13 dédié exclusivement aux enfants\, s
 e déroulera de 14h à 17h à la Maison des Associations et de la Vie Citoyen
 ne 11 rue Caillaux (proche Maisons Blanche).Ouverture à partir de 14h\, fe
 rmeture à 17h au plus tard.Les enfants doivent être accompagnés pendant le
  Repair Café\, le but des ateliers est la découverte et l'éveil à la répar
 ation : utilisation d'outils\, démontage d'objets du quoitidien\, soudure 
 (is possible)\, utilisation d'un multimètre\, etc.
DTSTART:20230121T130000Z
DTEND:20230121T130000Z
GEO:+48.822643;+2.36132
LOCATION:11 rue Caillaux 75013 PARIS
ORGANIZER;CN=:jackierepaircafe@gmail.com
SEQUENCE:1
SUMMARY:Repair Café Enfants MVAC 13ème
TRANSP:OPAQUE
URL:https://www.academie.repaircafeparis.fr/index.php/calendar/159-repair-c
 afe-enfants-mvac-13eme/2023-01-21-14-00
END:VEVENT
END:VCALENDAR
